BEGIN:VCALENDAR
VERSION:2.0
PRODID:https://www.systemelectronics.ai
X-PUBLISHED-TTL:P1W
BEGIN:VEVENT
UID:69ea2ef23c2da
DTSTART;VALUE=DATE:20260526
SEQUENCE:0
TRANSP:OPAQUE
DTEND;VALUE=DATE:20260529
URL:https://www.systemelectronics.ai/en/exhibitions/system-electronics-at-s
 ps-italia-2026-embedded-electronics-and-edge-ai-solutions-for-smart-machin
 es
LOCATION:Parma\, Italy
SUMMARY:System Electronics at SPS Italia 2026: embedded electronics and Edg
 e AI solutions for smart machines
CLASS:PUBLIC
X-ALT-DESC;FMTTYPE=text/html:<p>From <strong>May 26 to 28\, 2026</strong>
 \, Parma will host <strong>SPS Italia – Smart Production Solutions</st
 rong>. &nbsp\;<br>Meet <strong>System Electronics</strong>\, a <strong
 >Coesia brand</strong>\, at <strong>Hall 5\, Booth E026</strong> to di
 scover the complete portfolio of embedded electronics for industrial appli
 cations\, designed to increase machine performance\, connectivity and inte
 lligence. &nbsp\;</p><h6>A complete embedded electronics portfolio</h6><p>
 System Electronics designs and manufactures <strong>embedded solutions for
  OEMs</strong> and <strong>machine builders</strong> who want to turn spec
 ialized applications into <strong>market-leading machines</strong>. Our ap
 proach is strongly oriented towards <strong>customization</strong>: we co-
 engineer hardware and software to match performance targets\, operating co
 nditions and lifecycle requirements\, avoiding unnecessary features and co
 sts.</p><ul><li><strong>Industrial PCs</strong> (IPC): rugged computing pl
 atforms engineered for harsh environments and long-term availability.</li>
 <li><strong>Human–Machine Interfaces</strong> (HMI): responsive and secu
 re interfaces that enable intuitive operator interaction.</li><li><strong>
 I/O devices</strong> and <strong>industrial connectivity</strong>: solutio
 ns designed to integrate reliably into automation architectures.</li><li><
 strong>Custom electronics and devices</strong>: tailored boards and module
 s optimized for your application and cost targets.</li><li><strong>Edge co
 mputing and AI-ready modules</strong>: System-on-Modules (SoM) and carrier
  boards that bring advanced computing closer to the machine\, such as the 
 Astrial family products</li></ul><p>To support the shift toward data-drive
 n and autonomous machines\, we also provide computing platforms that enabl
 e analytics and AI at the edge\, reducing latency\, limiting cloud depende
 ncy and keeping sensitive data on-device. Our offering includes reference 
 designs and development support to accelerate the journey from prototyping
  to industrial production. &nbsp\;</p><h6>Why visit our booth</h6><ul><li>
 Explore how customized electronics can streamline machine performance and 
 reliability.</li><li>Discuss embedded architectures for IPC\, HMI and indu
 strial I/O\, built for demanding operating conditions.</li><li>Learn how e
 dge computing and AI-ready modules can enable real-time insights and smart
 er automation.</li><li>Meet our experts to evaluate a tailored development
  path\, from concept to integration and industrialization.</li></ul><p><st
 rong>Date</strong>: May 26–28\, 2026 &nbsp\;<br><strong>Location</stro
 ng>: Parma\, Italy &nbsp\;<br><strong>Booth</strong>: Hall 5\, Booth E
 026 &nbsp\;</p>\, coesia_editor_manager
X-MICROSOFT-CDO-ALLDAYEVENT:TRUE
DTSTAMP:20260423T163842Z
END:VEVENT
END:VCALENDAR